BEGIN:VCALENDAR
VERSION:2.0
PRODID:-//OBG - ECPv6.15.13//NONSGML v1.0//EN
CALSCALE:GREGORIAN
METHOD:PUBLISH
X-ORIGINAL-URL:https://obg.nu
X-WR-CALDESC:Evenementen voor OBG
REFRESH-INTERVAL;VALUE=DURATION:PT1H
X-Robots-Tag:noindex
X-PUBLISHED-TTL:PT1H
BEGIN:VTIMEZONE
TZID:Europe/Amsterdam
BEGIN:DAYLIGHT
TZOFFSETFROM:+0100
TZOFFSETTO:+0200
TZNAME:CEST
DTSTART:20250330T010000
END:DAYLIGHT
BEGIN:STANDARD
TZOFFSETFROM:+0200
TZOFFSETTO:+0100
TZNAME:CET
DTSTART:20251026T010000
END:STANDARD
BEGIN:DAYLIGHT
TZOFFSETFROM:+0100
TZOFFSETTO:+0200
TZNAME:CEST
DTSTART:20260329T010000
END:DAYLIGHT
BEGIN:STANDARD
TZOFFSETFROM:+0200
TZOFFSETTO:+0100
TZNAME:CET
DTSTART:20261025T010000
END:STANDARD
BEGIN:DAYLIGHT
TZOFFSETFROM:+0100
TZOFFSETTO:+0200
TZNAME:CEST
DTSTART:20270328T010000
END:DAYLIGHT
BEGIN:STANDARD
TZOFFSETFROM:+0200
TZOFFSETTO:+0100
TZNAME:CET
DTSTART:20271031T010000
END:STANDARD
END:VTIMEZONE
BEGIN:VEVENT
DTSTART;TZID=Europe/Amsterdam:20260520T140000
DTEND;TZID=Europe/Amsterdam:20260520T153000
DTSTAMP:20260423T130651
CREATED:20240416T125057Z
LAST-MODIFIED:20240416T125057Z
UID:18214-1779285600-1779291000@obg.nu
SUMMARY:Biljarten
DESCRIPTION:Aanmelden bij het Informatiepunt. \nWekelijks onder leiding van Cas\, een ervaren biljarter!
URL:https://obg.nu/activiteit/biljarten-nieuw-2024-06-06-2024-08-15-2024-11-21-2025-01-29-2025-06-11-2025-09-17/2026-05-20/
LOCATION:Brasserie OBG
END:VEVENT
BEGIN:VEVENT
DTSTART;TZID=Europe/Amsterdam:20260520T140000
DTEND;TZID=Europe/Amsterdam:20260520T160000
DTSTAMP:20260423T130651
CREATED:20240312T123342Z
LAST-MODIFIED:20240312T123342Z
UID:19330-1779285600-1779292800@obg.nu
SUMMARY:Jeu de Boules
DESCRIPTION:
URL:https://obg.nu/activiteit/jeu-de-boules-2-2024-06-12-2025-08-27-2025-09-24-2025-10-29/2026-05-20/
END:VEVENT
BEGIN:VEVENT
DTSTART;TZID=Europe/Amsterdam:20260520T140000
DTEND;TZID=Europe/Amsterdam:20260520T160000
DTSTAMP:20260423T130651
CREATED:20240722T122111Z
LAST-MODIFIED:20260421T133747Z
UID:13267-1779285600-1779292800@obg.nu
SUMMARY:Handwerken
DESCRIPTION:
URL:https://obg.nu/activiteit/handwerken/
LOCATION:Atelier
END:VEVENT
BEGIN:VEVENT
DTSTART;VALUE=DATE:20260521
DTEND;VALUE=DATE:20260522
DTSTAMP:20260423T130651
CREATED:20260421T133858Z
LAST-MODIFIED:20260421T134102Z
UID:19525-1779321600-1779407999@obg.nu
SUMMARY:Stichtingsdag OBG 434 jaar!
DESCRIPTION:
URL:https://obg.nu/activiteit/stichtingsdag-obg-434-jaar/
END:VEVENT
BEGIN:VEVENT
DTSTART;TZID=Europe/Amsterdam:20260521T100000
DTEND;TZID=Europe/Amsterdam:20260521T110000
DTSTAMP:20260423T130651
CREATED:20220824T134550Z
LAST-MODIFIED:20220824T134550Z
UID:18144-1779357600-1779361200@obg.nu
SUMMARY:Dansen op de stoel
DESCRIPTION:Vrije inloop
URL:https://obg.nu/activiteit/dansen-op-de-stoel-2-2023-07-27-2023-12-21-2024-07-18/2026-05-21/
LOCATION:Nicolaaskapel
END:VEVENT
BEGIN:VEVENT
DTSTART;TZID=Europe/Amsterdam:20260521T100000
DTEND;TZID=Europe/Amsterdam:20260521T113000
DTSTAMP:20260423T130651
CREATED:20210519T092630Z
LAST-MODIFIED:20210519T092630Z
UID:18901-1779357600-1779363000@obg.nu
SUMMARY:Koersbal
DESCRIPTION:Informeer bij Mevrouw Walraven voor de mogelijkheden via 024-2060813
URL:https://obg.nu/activiteit/koersbal-2022-05-19-2022-10-20-2023-05-25-2023-12-28-2024-07-04-2024-11-21-2025-05-15/2026-05-21/
LOCATION:Atelier
END:VEVENT
BEGIN:VEVENT
DTSTART;TZID=Europe/Amsterdam:20260521T100000
DTEND;TZID=Europe/Amsterdam:20260521T120000
DTSTAMP:20260423T130651
CREATED:20251223T122620Z
LAST-MODIFIED:20251223T122620Z
UID:18719-1779357600-1779364800@obg.nu
SUMMARY:Sjoelen
DESCRIPTION:
URL:https://obg.nu/activiteit/sjoelen-3/2026-05-21/
LOCATION:Brasserie OBG
END:VEVENT
BEGIN:VEVENT
DTSTART;TZID=Europe/Amsterdam:20260521T140000
DTEND;TZID=Europe/Amsterdam:20260521T170000
DTSTAMP:20260423T130651
CREATED:20240827T103613Z
LAST-MODIFIED:20240827T103613Z
UID:19081-1779372000-1779382800@obg.nu
SUMMARY:Schaken
DESCRIPTION:
URL:https://obg.nu/activiteit/schaken-2025-09-11-2026-02-26-2/2026-05-21/
LOCATION:Brasserie OBG
END:VEVENT
BEGIN:VEVENT
DTSTART;TZID=Europe/Amsterdam:20260522T110000
DTEND;TZID=Europe/Amsterdam:20260522T120000
DTSTAMP:20260423T130651
CREATED:20260109T104037Z
LAST-MODIFIED:20260109T104037Z
UID:19232-1779447600-1779451200@obg.nu
SUMMARY:Digitaal Inloopcafé
DESCRIPTION:
URL:https://obg.nu/activiteit/digitaal-inloopcafe-2/2026-05-22/
LOCATION:Atelier
END:VEVENT
BEGIN:VEVENT
DTSTART;TZID=Europe/Amsterdam:20260522T150000
DTEND;TZID=Europe/Amsterdam:20260522T163000
DTSTAMP:20260423T130651
CREATED:20240828T102919Z
LAST-MODIFIED:20240828T102919Z
UID:18322-1779462000-1779467400@obg.nu
SUMMARY:VRIJMIBO
DESCRIPTION:
URL:https://obg.nu/activiteit/vrijmibo-2024-10-11-2025-07-25-2025-10-24/2026-05-22/
LOCATION:Brasserie OBG
END:VEVENT
BEGIN:VEVENT
DTSTART;TZID=Europe/Amsterdam:20260522T180000
DTEND;TZID=Europe/Amsterdam:20260522T200000
DTSTAMP:20260423T130651
CREATED:20210623T124925Z
LAST-MODIFIED:20210623T124925Z
UID:19244-1779472800-1779480000@obg.nu
SUMMARY:Eten met Mawteni
DESCRIPTION:Elke vrijdag serveert Mawteni een 3-gangen menu voor € 15\,00 \nInschrijven kan tot vrijdag 12.00 uur bij het informatiepunt.
URL:https://obg.nu/activiteit/eten-met-mawteni-2026-03-06/2026-05-22/
LOCATION:Atelier
END:VEVENT
BEGIN:VEVENT
DTSTART;TZID=Europe/Amsterdam:20260523T143000
DTEND;TZID=Europe/Amsterdam:20260523T170000
DTSTAMP:20260423T130651
CREATED:20250923T130421Z
LAST-MODIFIED:20260421T141551Z
UID:18286-1779546600-1779555600@obg.nu
SUMMARY:Zaterdag Bingo!
DESCRIPTION:Elke laatste zaterdag van de maand organiseert OBG een gezellige bingo. Het vaste bingo team staat voor u klaar: Joop\, Wim\, Rosaline en Taliha. \nEntree € 13\,50\, met OBG voordeelpas € 12\,50 incl. koffie/thee\, 2 drankjes en heerlijke hapjes.
URL:https://obg.nu/activiteit/zaterdag-bingo/
LOCATION:Brasserie OBG
END:VEVENT
BEGIN:VEVENT
DTSTART;TZID=Europe/Amsterdam:20260523T183000
DTEND;TZID=Europe/Amsterdam:20260523T193000
DTSTAMP:20260423T130651
CREATED:20260421T141748Z
LAST-MODIFIED:20260421T141748Z
UID:19528-1779561000-1779564600@obg.nu
SUMMARY:Eucharistieviering Pinksteren
DESCRIPTION:door pater F. Manga
URL:https://obg.nu/activiteit/eucharistieviering-pinksteren/
LOCATION:Nicolaaskapel
END:VEVENT
BEGIN:VEVENT
DTSTART;TZID=Europe/Amsterdam:20260524T143000
DTEND;TZID=Europe/Amsterdam:20260524T160000
DTSTAMP:20260423T130651
CREATED:20250520T121139Z
LAST-MODIFIED:20260421T141851Z
UID:17428-1779633000-1779638400@obg.nu
SUMMARY:OBG matinee: Guacamole
DESCRIPTION:
URL:https://obg.nu/activiteit/obg-matinee-koor-de-weesgegroetjes/
LOCATION:Brasserie OBG
END:VEVENT
BEGIN:VEVENT
DTSTART;TZID=Europe/Amsterdam:20260526T100000
DTEND;TZID=Europe/Amsterdam:20260526T104500
DTSTAMP:20260423T130651
CREATED:20240821T144900Z
LAST-MODIFIED:20240821T144900Z
UID:18323-1779789600-1779792300@obg.nu
SUMMARY:Beweeg je fit!(groep 1)
DESCRIPTION:Deze lessen worden gegeven door Ludios.\nDe kosten bedragen € 10\,00 per maand (2025)\nInteresse? \nNeem dan contact op met: \nLisa Ahsmann\n06-43275719\nl.ahsmann@ludios.nl\nRegiomanager Ludios Gelderland
URL:https://obg.nu/activiteit/beweeg-je-fitgroep-1/2026-05-26/
END:VEVENT
BEGIN:VEVENT
DTSTART;TZID=Europe/Amsterdam:20260526T110000
DTEND;TZID=Europe/Amsterdam:20260526T114500
DTSTAMP:20260423T130651
CREATED:20211019T133336Z
LAST-MODIFIED:20211019T133336Z
UID:18700-1779793200-1779795900@obg.nu
SUMMARY:Beweeg je fit! (groep 2)
DESCRIPTION:Deze lessen worden gegeven door Ludios.\nDe kosten bedragen € 10\,00 per maand (2025)\nInteresse? \nNeem dan contact op met: \nLisa Ahsmann\n06-43275719\nl.ahsmann@ludios.nl\nRegiomanager Ludios Gelderland
URL:https://obg.nu/activiteit/beweeg-je-fit-groep-2-2022-11-01-2023-06-06-2025-06-17-2025-12-16/2026-05-26/
LOCATION:Nicolaaskapel
END:VEVENT
BEGIN:VEVENT
DTSTART;TZID=Europe/Amsterdam:20260526T133000
DTEND;TZID=Europe/Amsterdam:20260526T163000
DTSTAMP:20260423T130651
CREATED:20231227T123237Z
LAST-MODIFIED:20231227T123237Z
UID:18772-1779802200-1779813000@obg.nu
SUMMARY:Bridge
DESCRIPTION:
URL:https://obg.nu/activiteit/bridge-2-2024-06-25-2025-04-01-2025-11-11-2026-01-27/2026-05-26/
LOCATION:Atelier
END:VEVENT
BEGIN:VEVENT
DTSTART;TZID=Europe/Amsterdam:20260526T140000
DTEND;TZID=Europe/Amsterdam:20260526T160000
DTSTAMP:20260423T130651
CREATED:20260114T134533Z
LAST-MODIFIED:20260422T095915Z
UID:18794-1779804000-1779811200@obg.nu
SUMMARY:Klaverjassen
DESCRIPTION:Heeft u zin in een potje klavrjassen? Sluit dan aan bij de klaverjassenclub Schoppen 9. \nElke dinsdag van 14:00-16:00 uur\, behalve de 2e dinsdag van de maand. Gewoon binnenlopen. Iedereen is welkom.
URL:https://obg.nu/activiteit/klaverjassen-2026-04-21/
LOCATION:Brasserie OBG
END:VEVENT
BEGIN:VEVENT
DTSTART;TZID=Europe/Amsterdam:20260526T143000
DTEND;TZID=Europe/Amsterdam:20260526T160000
DTSTAMP:20260423T130651
CREATED:20240827T103318Z
LAST-MODIFIED:20240827T103318Z
UID:18577-1779805800-1779811200@obg.nu
SUMMARY:Rummikub
DESCRIPTION:
URL:https://obg.nu/activiteit/rummikub-2025-09-16-2025-12-23-2/2026-05-26/
LOCATION:Brasserie OBG
END:VEVENT
BEGIN:VEVENT
DTSTART;TZID=Europe/Amsterdam:20260526T193000
DTEND;TZID=Europe/Amsterdam:20260526T223000
DTSTAMP:20260423T130651
CREATED:20220803T115134Z
LAST-MODIFIED:20260422T095954Z
UID:5083-1779823800-1779834600@obg.nu
SUMMARY:Dansavond Seniorencafé Burgerlust: met Ferry Brooks
DESCRIPTION:
URL:https://obg.nu/activiteit/dansavond-seniorencafe-burgerlust-tom-meuwese/
LOCATION:Brasserie OBG
END:VEVENT
BEGIN:VEVENT
DTSTART;TZID=Europe/Amsterdam:20260527T100000
DTEND;TZID=Europe/Amsterdam:20260527T120000
DTSTAMP:20260423T130651
CREATED:20240828T104252Z
LAST-MODIFIED:20260422T100057Z
UID:15211-1779876000-1779883200@obg.nu
SUMMARY:Germa kledingverkoop
DESCRIPTION:
URL:https://obg.nu/activiteit/germa-kledingverkoop/
LOCATION:Hal Dienstcentrum
END:VEVENT
BEGIN:VEVENT
DTSTART;TZID=Europe/Amsterdam:20260527T103000
DTEND;TZID=Europe/Amsterdam:20260527T120000
DTSTAMP:20260423T130651
CREATED:20250709T115428Z
LAST-MODIFIED:20250709T115428Z
UID:18324-1779877800-1779883200@obg.nu
SUMMARY:Sjoelen
DESCRIPTION:
URL:https://obg.nu/activiteit/sjoelen-2-2025-09-24/2026-05-27/
LOCATION:Brasserie OBG
END:VEVENT
BEGIN:VEVENT
DTSTART;TZID=Europe/Amsterdam:20260527T140000
DTEND;TZID=Europe/Amsterdam:20260527T150000
DTSTAMP:20260423T130651
CREATED:20250520T121604Z
LAST-MODIFIED:20260422T100133Z
UID:17432-1779890400-1779894000@obg.nu
SUMMARY:Bijeenkomst Leesclub
DESCRIPTION:
URL:https://obg.nu/activiteit/bijeenkomst-leesclub/
LOCATION:Regentenkamer
END:VEVENT
BEGIN:VEVENT
DTSTART;TZID=Europe/Amsterdam:20260527T140000
DTEND;TZID=Europe/Amsterdam:20260527T153000
DTSTAMP:20260423T130651
CREATED:20240416T125057Z
LAST-MODIFIED:20240416T125057Z
UID:18325-1779890400-1779895800@obg.nu
SUMMARY:Biljarten
DESCRIPTION:Aanmelden bij het Informatiepunt. \nWekelijks onder leiding van Cas\, een ervaren biljarter!
URL:https://obg.nu/activiteit/biljarten-nieuw-2024-06-06-2024-08-15-2024-11-21-2025-01-29-2025-06-11-2025-09-17/2026-05-27/
LOCATION:Brasserie OBG
END:VEVENT
BEGIN:VEVENT
DTSTART;TZID=Europe/Amsterdam:20260527T140000
DTEND;TZID=Europe/Amsterdam:20260527T160000
DTSTAMP:20260423T130651
CREATED:20240312T123342Z
LAST-MODIFIED:20240312T123342Z
UID:19331-1779890400-1779897600@obg.nu
SUMMARY:Jeu de Boules
DESCRIPTION:
URL:https://obg.nu/activiteit/jeu-de-boules-2-2024-06-12-2025-08-27-2025-09-24-2025-10-29/2026-05-27/
END:VEVENT
BEGIN:VEVENT
DTSTART;TZID=Europe/Amsterdam:20260528T100000
DTEND;TZID=Europe/Amsterdam:20260528T110000
DTSTAMP:20260423T130651
CREATED:20220824T134550Z
LAST-MODIFIED:20220824T134550Z
UID:18329-1779962400-1779966000@obg.nu
SUMMARY:Dansen op de stoel
DESCRIPTION:Vrije inloop
URL:https://obg.nu/activiteit/dansen-op-de-stoel-2-2023-07-27-2023-12-21-2024-07-18/2026-05-28/
LOCATION:Nicolaaskapel
END:VEVENT
BEGIN:VEVENT
DTSTART;TZID=Europe/Amsterdam:20260528T100000
DTEND;TZID=Europe/Amsterdam:20260528T113000
DTSTAMP:20260423T130651
CREATED:20210519T092630Z
LAST-MODIFIED:20210519T092630Z
UID:18902-1779962400-1779967800@obg.nu
SUMMARY:Koersbal
DESCRIPTION:Informeer bij Mevrouw Walraven voor de mogelijkheden via 024-2060813
URL:https://obg.nu/activiteit/koersbal-2022-05-19-2022-10-20-2023-05-25-2023-12-28-2024-07-04-2024-11-21-2025-05-15/2026-05-28/
LOCATION:Atelier
END:VEVENT
BEGIN:VEVENT
DTSTART;TZID=Europe/Amsterdam:20260528T100000
DTEND;TZID=Europe/Amsterdam:20260528T120000
DTSTAMP:20260423T130651
CREATED:20251223T122620Z
LAST-MODIFIED:20251223T122620Z
UID:18720-1779962400-1779969600@obg.nu
SUMMARY:Sjoelen
DESCRIPTION:
URL:https://obg.nu/activiteit/sjoelen-3/2026-05-28/
LOCATION:Brasserie OBG
END:VEVENT
BEGIN:VEVENT
DTSTART;TZID=Europe/Amsterdam:20260528T140000
DTEND;TZID=Europe/Amsterdam:20260528T170000
DTSTAMP:20260423T130651
CREATED:20240827T103613Z
LAST-MODIFIED:20240827T103613Z
UID:19082-1779976800-1779987600@obg.nu
SUMMARY:Schaken
DESCRIPTION:
URL:https://obg.nu/activiteit/schaken-2025-09-11-2026-02-26-2/2026-05-28/
LOCATION:Brasserie OBG
END:VEVENT
BEGIN:VEVENT
DTSTART;TZID=Europe/Amsterdam:20260528T143000
DTEND;TZID=Europe/Amsterdam:20260528T160000
DTSTAMP:20260423T130651
CREATED:20230516T093931Z
LAST-MODIFIED:20260422T100216Z
UID:9343-1779978600-1779984000@obg.nu
SUMMARY:Ontmoetingsgroep levensvragen
DESCRIPTION:Inschrijven bij het informatiepunt.
URL:https://obg.nu/activiteit/ontmoetingsgroep-levensvragen-2/
LOCATION:Regentenkamer
END:VEVENT
END:VCALENDAR