BEGIN:VCALENDAR
VERSION:2.0
PRODID:-//OBG - ECPv6.15.13//NONSGML v1.0//EN
CALSCALE:GREGORIAN
METHOD:PUBLISH
X-ORIGINAL-URL:https://obg.nu
X-WR-CALDESC:Evenementen voor OBG
REFRESH-INTERVAL;VALUE=DURATION:PT1H
X-Robots-Tag:noindex
X-PUBLISHED-TTL:PT1H
BEGIN:VTIMEZONE
TZID:Europe/Amsterdam
BEGIN:DAYLIGHT
TZOFFSETFROM:+0100
TZOFFSETTO:+0200
TZNAME:CEST
DTSTART:20250330T010000
END:DAYLIGHT
BEGIN:STANDARD
TZOFFSETFROM:+0200
TZOFFSETTO:+0100
TZNAME:CET
DTSTART:20251026T010000
END:STANDARD
BEGIN:DAYLIGHT
TZOFFSETFROM:+0100
TZOFFSETTO:+0200
TZNAME:CEST
DTSTART:20260329T010000
END:DAYLIGHT
BEGIN:STANDARD
TZOFFSETFROM:+0200
TZOFFSETTO:+0100
TZNAME:CET
DTSTART:20261025T010000
END:STANDARD
BEGIN:DAYLIGHT
TZOFFSETFROM:+0100
TZOFFSETTO:+0200
TZNAME:CEST
DTSTART:20270328T010000
END:DAYLIGHT
BEGIN:STANDARD
TZOFFSETFROM:+0200
TZOFFSETTO:+0100
TZNAME:CET
DTSTART:20271031T010000
END:STANDARD
END:VTIMEZONE
BEGIN:VEVENT
DTSTART;TZID=Europe/Amsterdam:20260512T110000
DTEND;TZID=Europe/Amsterdam:20260512T114500
DTSTAMP:20260421T162416
CREATED:20211019T133336Z
LAST-MODIFIED:20211019T133336Z
UID:18698-1778583600-1778586300@obg.nu
SUMMARY:Beweeg je fit! (groep 2)
DESCRIPTION:Deze lessen worden gegeven door Ludios.\nDe kosten bedragen € 10\,00 per maand (2025)\nInteresse? \nNeem dan contact op met: \nLisa Ahsmann\n06-43275719\nl.ahsmann@ludios.nl\nRegiomanager Ludios Gelderland
URL:https://obg.nu/activiteit/beweeg-je-fit-groep-2-2022-11-01-2023-06-06-2025-06-17-2025-12-16/2026-05-12/
LOCATION:Nicolaaskapel
END:VEVENT
BEGIN:VEVENT
DTSTART;TZID=Europe/Amsterdam:20260512T133000
DTEND;TZID=Europe/Amsterdam:20260512T163000
DTSTAMP:20260421T162416
CREATED:20231227T123237Z
LAST-MODIFIED:20231227T123237Z
UID:18770-1778592600-1778603400@obg.nu
SUMMARY:Bridge
DESCRIPTION:
URL:https://obg.nu/activiteit/bridge-2-2024-06-25-2025-04-01-2025-11-11-2026-01-27/2026-05-12/
LOCATION:Atelier
END:VEVENT
BEGIN:VEVENT
DTSTART;TZID=Europe/Amsterdam:20260512T140000
DTEND;TZID=Europe/Amsterdam:20260512T160000
DTSTAMP:20260421T162416
CREATED:20251007T121610Z
LAST-MODIFIED:20260421T123439Z
UID:18365-1778594400-1778601600@obg.nu
SUMMARY:Seniorencollege: Waterstof uit wind en woestijn
DESCRIPTION:Inschrijven bij het informatiepunt. \nIn elk Seniorencollege staat een ander thema centraal. \nWaar en wanneer:\nHet Seniorencollege vindt elke tweede dinsdag van de maand plaats in de Nicolaaskapel van OBG. \nEntree: \nInschrijven bij het informatiepunt via info@obg.nu of via 024-3279279\n€ 5\,00 incl. koffie/thee/ € 3\,- ( met OBG-voordeelpas)
URL:https://obg.nu/activiteit/seniorencollege-ijstijden-in-ruimte-en-tijd/
LOCATION:Nicolaaskapel
END:VEVENT
BEGIN:VEVENT
DTSTART;TZID=Europe/Amsterdam:20260512T143000
DTEND;TZID=Europe/Amsterdam:20260512T160000
DTSTAMP:20260421T162416
CREATED:20240827T103318Z
LAST-MODIFIED:20240827T103318Z
UID:18575-1778596200-1778601600@obg.nu
SUMMARY:Rummikub
DESCRIPTION:
URL:https://obg.nu/activiteit/rummikub-2025-09-16-2025-12-23-2/2026-05-12/
LOCATION:Brasserie OBG
END:VEVENT
BEGIN:VEVENT
DTSTART;TZID=Europe/Amsterdam:20260512T190000
DTEND;TZID=Europe/Amsterdam:20260512T223000
DTSTAMP:20260421T162416
CREATED:20250625T083840Z
LAST-MODIFIED:20260421T123548Z
UID:17623-1778612400-1778625000@obg.nu
SUMMARY:Dansavond Seniorencafé Burgerlust met Hans Leijten
DESCRIPTION:Seniorencafé Burgerlust is dé plek voor dans- en muziekliefhebbers. Elke maand organiseren ze twee dansavonden met live muziek van vaste muzikanten. De vrijwilligers van Burgerlust zorgen voor een warme sfeer\, een goede service\, en lekkere hapjes. Het is een gezellige ontmoetingsplek waar u nieuwe mensen kunt leren kennen\, of oude bekenden kunt tegenkomen. Er komen altijd veel mensen op af\, dus zorg dat u op tijd bent! \nOBG is er voor iedereen die actief en gezond wil leven en ouder worden. Het is een ontmoetingsplek waar iedereen gezien wordt en iets voor anderen kan betekenen. Er worden allerlei activiteiten en diensten aangeboden voor senioren\, maar ook voor andere belangstellenden. De Brasserie is elke dag open voor een kopje koffie\, een maaltijd of een praatje. U bent van harte welkom om eens langs te komen en de sfeer te proeven. \nSeniorencafé Burgerlust\, OBG\, Prof. Cornelissenstraat 2\, 6524 PJ Nijmegen.\nTijd: 19.30 – 22.30 uur\, zaal open vanaf 19.00 uur.
URL:https://obg.nu/activiteit/dansavond-seniorencafe-burgerlust-met-theo-van-blitz/
END:VEVENT
BEGIN:VEVENT
DTSTART;TZID=Europe/Amsterdam:20260513T103000
DTEND;TZID=Europe/Amsterdam:20260513T120000
DTSTAMP:20260421T162416
CREATED:20250709T115428Z
LAST-MODIFIED:20250709T115428Z
UID:18178-1778668200-1778673600@obg.nu
SUMMARY:Sjoelen
DESCRIPTION:
URL:https://obg.nu/activiteit/sjoelen-2-2025-09-24/2026-05-13/
LOCATION:Brasserie OBG
END:VEVENT
BEGIN:VEVENT
DTSTART;TZID=Europe/Amsterdam:20260513T140000
DTEND;TZID=Europe/Amsterdam:20260513T153000
DTSTAMP:20260421T162416
CREATED:20240416T125057Z
LAST-MODIFIED:20240416T125057Z
UID:18213-1778680800-1778686200@obg.nu
SUMMARY:Biljarten
DESCRIPTION:Aanmelden bij het Informatiepunt. \nWekelijks onder leiding van Cas\, een ervaren biljarter!
URL:https://obg.nu/activiteit/biljarten-nieuw-2024-06-06-2024-08-15-2024-11-21-2025-01-29-2025-06-11-2025-09-17/2026-05-13/
LOCATION:Brasserie OBG
END:VEVENT
BEGIN:VEVENT
DTSTART;TZID=Europe/Amsterdam:20260513T140000
DTEND;TZID=Europe/Amsterdam:20260513T160000
DTSTAMP:20260421T162416
CREATED:20240312T123342Z
LAST-MODIFIED:20240312T123342Z
UID:19329-1778680800-1778688000@obg.nu
SUMMARY:Jeu de Boules
DESCRIPTION:
URL:https://obg.nu/activiteit/jeu-de-boules-2-2024-06-12-2025-08-27-2025-09-24-2025-10-29/2026-05-13/
END:VEVENT
BEGIN:VEVENT
DTSTART;VALUE=DATE:20260514
DTEND;VALUE=DATE:20260515
DTSTAMP:20260421T162416
CREATED:20260421T123842Z
LAST-MODIFIED:20260421T123842Z
UID:19519-1778716800-1778803199@obg.nu
SUMMARY:Hemelvaart
DESCRIPTION:
URL:https://obg.nu/activiteit/hemelvaart/
END:VEVENT
BEGIN:VEVENT
DTSTART;TZID=Europe/Amsterdam:20260515T110000
DTEND;TZID=Europe/Amsterdam:20260515T120000
DTSTAMP:20260421T162416
CREATED:20260109T104037Z
LAST-MODIFIED:20260109T104037Z
UID:19231-1778842800-1778846400@obg.nu
SUMMARY:Digitaal Inloopcafé
DESCRIPTION:
URL:https://obg.nu/activiteit/digitaal-inloopcafe-2/2026-05-15/
LOCATION:Atelier
END:VEVENT
BEGIN:VEVENT
DTSTART;TZID=Europe/Amsterdam:20260515T143000
DTEND;TZID=Europe/Amsterdam:20260515T160000
DTSTAMP:20260421T162416
CREATED:20210907T131419Z
LAST-MODIFIED:20260421T124026Z
UID:12847-1778855400-1778860800@obg.nu
SUMMARY:Filosofiegroep OBG
DESCRIPTION:  \nHiervoor betaalt u jaarlijks een bijdrage
URL:https://obg.nu/activiteit/filosofiegroep-2-2025-03-21/
LOCATION:Nicolaaskapel
END:VEVENT
BEGIN:VEVENT
DTSTART;TZID=Europe/Amsterdam:20260515T150000
DTEND;TZID=Europe/Amsterdam:20260515T163000
DTSTAMP:20260421T162416
CREATED:20240828T102919Z
LAST-MODIFIED:20240828T102919Z
UID:18321-1778857200-1778862600@obg.nu
SUMMARY:VRIJMIBO
DESCRIPTION:
URL:https://obg.nu/activiteit/vrijmibo-2024-10-11-2025-07-25-2025-10-24/2026-05-15/
LOCATION:Brasserie OBG
END:VEVENT
BEGIN:VEVENT
DTSTART;TZID=Europe/Amsterdam:20260515T180000
DTEND;TZID=Europe/Amsterdam:20260515T200000
DTSTAMP:20260421T162416
CREATED:20210623T124925Z
LAST-MODIFIED:20210623T124925Z
UID:19243-1778868000-1778875200@obg.nu
SUMMARY:Eten met Mawteni
DESCRIPTION:Elke vrijdag serveert Mawteni een 3-gangen menu voor € 15\,00 \nInschrijven kan tot vrijdag 12.00 uur bij het informatiepunt.
URL:https://obg.nu/activiteit/eten-met-mawteni-2026-03-06/2026-05-15/
LOCATION:Atelier
END:VEVENT
BEGIN:VEVENT
DTSTART;TZID=Europe/Amsterdam:20260516T110000
DTEND;TZID=Europe/Amsterdam:20260516T123000
DTSTAMP:20260421T162416
CREATED:20241009T130944Z
LAST-MODIFIED:20260421T125827Z
UID:15952-1778929200-1778934600@obg.nu
SUMMARY:Dansmeditatie
DESCRIPTION:Vrije inloop.
URL:https://obg.nu/activiteit/dansmeditatie-3/
LOCATION:Nicolaaskapel
END:VEVENT
BEGIN:VEVENT
DTSTART;TZID=Europe/Amsterdam:20260516T110000
DTEND;TZID=Europe/Amsterdam:20260516T140000
DTSTAMP:20260421T162416
CREATED:20220201T135854Z
LAST-MODIFIED:20260421T124207Z
UID:3521-1778929200-1778940000@obg.nu
SUMMARY:Repair cafe
DESCRIPTION:Vrije inloop.
URL:https://obg.nu/activiteit/repair-cafe/
LOCATION:Atelier
END:VEVENT
BEGIN:VEVENT
DTSTART;TZID=Europe/Amsterdam:20260516T183000
DTEND;TZID=Europe/Amsterdam:20260516T193000
DTSTAMP:20260421T162416
CREATED:20260421T124548Z
LAST-MODIFIED:20260421T124558Z
UID:19521-1778956200-1778959800@obg.nu
SUMMARY:Woord & Communieviering
DESCRIPTION:Door diaken Th.van Driel
URL:https://obg.nu/activiteit/woord-communieviering-8/
LOCATION:Nicolaaskapel
END:VEVENT
BEGIN:VEVENT
DTSTART;TZID=Europe/Amsterdam:20260517T143000
DTEND;TZID=Europe/Amsterdam:20260517T160000
DTSTAMP:20260421T162416
CREATED:20240606T084517Z
LAST-MODIFIED:20260421T132248Z
UID:12907-1779028200-1779033600@obg.nu
SUMMARY:OBG Matinee: Zingen met Sander
DESCRIPTION:  \n 
URL:https://obg.nu/activiteit/obg-matinee-popkoor-switch/
LOCATION:Brasserie OBG
END:VEVENT
BEGIN:VEVENT
DTSTART;TZID=Europe/Amsterdam:20260518T103000
DTEND;TZID=Europe/Amsterdam:20260518T123000
DTSTAMP:20260421T162416
CREATED:20250212T140948Z
LAST-MODIFIED:20260421T133022Z
UID:16849-1779100200-1779107400@obg.nu
SUMMARY:Oma's soep
DESCRIPTION:Inschrijven bij het informatiepunt.
URL:https://obg.nu/activiteit/omas-soep-2/
LOCATION:Atelier
END:VEVENT
BEGIN:VEVENT
DTSTART;TZID=Europe/Amsterdam:20260518T130000
DTEND;TZID=Europe/Amsterdam:20260518T153000
DTSTAMP:20260421T162416
CREATED:20240827T102758Z
LAST-MODIFIED:20240827T102758Z
UID:19383-1779109200-1779118200@obg.nu
SUMMARY:Tekenen & Schilderen
DESCRIPTION:
URL:https://obg.nu/activiteit/tekenen-schilderen-2025-03-31-2025-09-29-2026-03-30/2026-05-18/
LOCATION:Atelier
END:VEVENT
BEGIN:VEVENT
DTSTART;TZID=Europe/Amsterdam:20260519T100000
DTEND;TZID=Europe/Amsterdam:20260519T104500
DTSTAMP:20260421T162416
CREATED:20240821T144900Z
LAST-MODIFIED:20240821T144900Z
UID:18141-1779184800-1779187500@obg.nu
SUMMARY:Beweeg je fit!(groep 1)
DESCRIPTION:Deze lessen worden gegeven door Ludios.\nDe kosten bedragen € 10\,00 per maand (2025)\nInteresse? \nNeem dan contact op met: \nLisa Ahsmann\n06-43275719\nl.ahsmann@ludios.nl\nRegiomanager Ludios Gelderland
URL:https://obg.nu/activiteit/beweeg-je-fitgroep-1/2026-05-19/
END:VEVENT
BEGIN:VEVENT
DTSTART;TZID=Europe/Amsterdam:20260519T110000
DTEND;TZID=Europe/Amsterdam:20260519T114500
DTSTAMP:20260421T162416
CREATED:20211019T133336Z
LAST-MODIFIED:20211019T133336Z
UID:18699-1779188400-1779191100@obg.nu
SUMMARY:Beweeg je fit! (groep 2)
DESCRIPTION:Deze lessen worden gegeven door Ludios.\nDe kosten bedragen € 10\,00 per maand (2025)\nInteresse? \nNeem dan contact op met: \nLisa Ahsmann\n06-43275719\nl.ahsmann@ludios.nl\nRegiomanager Ludios Gelderland
URL:https://obg.nu/activiteit/beweeg-je-fit-groep-2-2022-11-01-2023-06-06-2025-06-17-2025-12-16/2026-05-19/
LOCATION:Nicolaaskapel
END:VEVENT
BEGIN:VEVENT
DTSTART;TZID=Europe/Amsterdam:20260519T133000
DTEND;TZID=Europe/Amsterdam:20260519T163000
DTSTAMP:20260421T162416
CREATED:20231227T123237Z
LAST-MODIFIED:20231227T123237Z
UID:18771-1779197400-1779208200@obg.nu
SUMMARY:Bridge
DESCRIPTION:
URL:https://obg.nu/activiteit/bridge-2-2024-06-25-2025-04-01-2025-11-11-2026-01-27/2026-05-19/
LOCATION:Atelier
END:VEVENT
BEGIN:VEVENT
DTSTART;TZID=Europe/Amsterdam:20260519T140000
DTEND;TZID=Europe/Amsterdam:20260519T160000
DTSTAMP:20260421T162416
CREATED:20260114T134533Z
LAST-MODIFIED:20260421T133117Z
UID:18790-1779199200-1779206400@obg.nu
SUMMARY:Klaverjassen
DESCRIPTION:Heeft u zin in een potje klavrjassen? Sluit dan aan bij de klaverjassenclub Schoppen 9. \nElke dinsdag van 14:00-16:00 uur\, behalve de 2e dinsdag van de maand. Gewoon binnenlopen. Iedereen is welkom.
URL:https://obg.nu/activiteit/klaverjassen-2026-03-31/
LOCATION:Brasserie OBG
END:VEVENT
BEGIN:VEVENT
DTSTART;TZID=Europe/Amsterdam:20260519T143000
DTEND;TZID=Europe/Amsterdam:20260519T160000
DTSTAMP:20260421T162416
CREATED:20240827T103318Z
LAST-MODIFIED:20240827T103318Z
UID:18576-1779201000-1779206400@obg.nu
SUMMARY:Rummikub
DESCRIPTION:
URL:https://obg.nu/activiteit/rummikub-2025-09-16-2025-12-23-2/2026-05-19/
LOCATION:Brasserie OBG
END:VEVENT
BEGIN:VEVENT
DTSTART;TZID=Europe/Amsterdam:20260519T190000
DTEND;TZID=Europe/Amsterdam:20260519T210000
DTSTAMP:20260421T162416
CREATED:20240606T080327Z
LAST-MODIFIED:20260421T133227Z
UID:12747-1779217200-1779224400@obg.nu
SUMMARY:Alzheimer Café:
DESCRIPTION:Het Alzheimer Café in het OBG – Oud Burger Gasthuis – is het oudste in de regio\, je kunt ook zeggen: het Café met de meeste ervaring. Het is makkelijk te vinden. Tussen 7 uur en half 8 loopt u via de hoofdingang van de OBG naar binnen\, rechtdoor\, en u komt in de ruimte waar het café plaatsvindt. U wordt welkom geheten door een van de gastvrouwen\, als u wilt kunt u even een praatje maken en u krijgt – per persoon\, twee bonnen waarmee u koffie of thee (of eventueel een frisje) kunt krijgen. Dan zoekt u een fijn plekje\, vooraan of juist achterin\, wat u maar wilt. Om half acht wordt de spreker van de avond voorgesteld\, altijd een deskundige over het onderwerp van de avond.\nOpbouw\nIn het eerste half uur\, van half acht tot acht uur\, wordt de spreker geïnterviewd over het onderwerp van de avond. Het onderwerp wordt van verschillende kanten belicht. En ja\, als iets niet duidelijk is\, kunt u uw vraag stellen\, maar het is de bedoeling dat ná de pauze te doen.\nOm acht uur is er pauze\, waarin u een tweede kop koffie of thee kunt krijgen. U kunt ook met andere bezoekers en soms met de deskundige praten. Of u neemt een kijkje bij de informatietafel\, waar folders liggen van Alzheimer Nederland en soms ook over het onderwerp van de avond. Of u maakt een praatje met een van de gastvrouwen\, die vaak veel weten over dementie in het algemeen en die u bij vragen op het goede spoor kunnen zetten.\nVragen?\nU kunt ook van de gelegenheid gebruik maken een vraag op papier te zetten\, als u die eventueel anoniem wilt stellen. Maar na de pauze is het laatste half uur bestemd voor het stellen van vragen. En dat allemaal in een gemoedelijke\, gezellige sfeer\, niks moeilijks\, niks moet en er mag veel.\nAan het eind van de avond is er altijd weer een leuke\, bloemrijke verrassing!\nKomt u ook?\nIedere derde dinsdag van de maand (met uitzondering van juli en augustus)
URL:https://obg.nu/activiteit/alzheimer-cafe-laatste-van-dit-seizoen/
LOCATION:Brasserie OBG
END:VEVENT
BEGIN:VEVENT
DTSTART;TZID=Europe/Amsterdam:20260520T103000
DTEND;TZID=Europe/Amsterdam:20260520T120000
DTSTAMP:20260421T162416
CREATED:20250709T115428Z
LAST-MODIFIED:20250709T115428Z
UID:18179-1779273000-1779278400@obg.nu
SUMMARY:Sjoelen
DESCRIPTION:
URL:https://obg.nu/activiteit/sjoelen-2-2025-09-24/2026-05-20/
LOCATION:Brasserie OBG
END:VEVENT
BEGIN:VEVENT
DTSTART;TZID=Europe/Amsterdam:20260520T140000
DTEND;TZID=Europe/Amsterdam:20260520T153000
DTSTAMP:20260421T162416
CREATED:20240416T125057Z
LAST-MODIFIED:20240416T125057Z
UID:18214-1779285600-1779291000@obg.nu
SUMMARY:Biljarten
DESCRIPTION:Aanmelden bij het Informatiepunt. \nWekelijks onder leiding van Cas\, een ervaren biljarter!
URL:https://obg.nu/activiteit/biljarten-nieuw-2024-06-06-2024-08-15-2024-11-21-2025-01-29-2025-06-11-2025-09-17/2026-05-20/
LOCATION:Brasserie OBG
END:VEVENT
BEGIN:VEVENT
DTSTART;TZID=Europe/Amsterdam:20260520T140000
DTEND;TZID=Europe/Amsterdam:20260520T160000
DTSTAMP:20260421T162416
CREATED:20240312T123342Z
LAST-MODIFIED:20240312T123342Z
UID:19330-1779285600-1779292800@obg.nu
SUMMARY:Jeu de Boules
DESCRIPTION:
URL:https://obg.nu/activiteit/jeu-de-boules-2-2024-06-12-2025-08-27-2025-09-24-2025-10-29/2026-05-20/
END:VEVENT
BEGIN:VEVENT
DTSTART;TZID=Europe/Amsterdam:20260520T140000
DTEND;TZID=Europe/Amsterdam:20260520T160000
DTSTAMP:20260421T162416
CREATED:20240722T122111Z
LAST-MODIFIED:20260421T133747Z
UID:13267-1779285600-1779292800@obg.nu
SUMMARY:Handwerken
DESCRIPTION:
URL:https://obg.nu/activiteit/handwerken/
LOCATION:Atelier
END:VEVENT
BEGIN:VEVENT
DTSTART;VALUE=DATE:20260521
DTEND;VALUE=DATE:20260522
DTSTAMP:20260421T162416
CREATED:20260421T133858Z
LAST-MODIFIED:20260421T134102Z
UID:19525-1779321600-1779407999@obg.nu
SUMMARY:Stichtingsdag OBG 434 jaar!
DESCRIPTION:
URL:https://obg.nu/activiteit/stichtingsdag-obg-434-jaar/
END:VEVENT
END:VCALENDAR