BEGIN:VCALENDAR
VERSION:2.0
PRODID:-//OBG - ECPv6.15.13//NONSGML v1.0//EN
CALSCALE:GREGORIAN
METHOD:PUBLISH
X-WR-CALNAME:OBG
X-ORIGINAL-URL:https://obg.nu
X-WR-CALDESC:Evenementen voor OBG
REFRESH-INTERVAL;VALUE=DURATION:PT1H
X-Robots-Tag:noindex
X-PUBLISHED-TTL:PT1H
BEGIN:VTIMEZONE
TZID:Europe/Amsterdam
BEGIN:DAYLIGHT
TZOFFSETFROM:+0100
TZOFFSETTO:+0200
TZNAME:CEST
DTSTART:20250330T010000
END:DAYLIGHT
BEGIN:STANDARD
TZOFFSETFROM:+0200
TZOFFSETTO:+0100
TZNAME:CET
DTSTART:20251026T010000
END:STANDARD
BEGIN:DAYLIGHT
TZOFFSETFROM:+0100
TZOFFSETTO:+0200
TZNAME:CEST
DTSTART:20260329T010000
END:DAYLIGHT
BEGIN:STANDARD
TZOFFSETFROM:+0200
TZOFFSETTO:+0100
TZNAME:CET
DTSTART:20261025T010000
END:STANDARD
BEGIN:DAYLIGHT
TZOFFSETFROM:+0100
TZOFFSETTO:+0200
TZNAME:CEST
DTSTART:20270328T010000
END:DAYLIGHT
BEGIN:STANDARD
TZOFFSETFROM:+0200
TZOFFSETTO:+0100
TZNAME:CET
DTSTART:20271031T010000
END:STANDARD
END:VTIMEZONE
BEGIN:VEVENT
DTSTART;TZID=Europe/Amsterdam:20260423T100000
DTEND;TZID=Europe/Amsterdam:20260423T110000
DTSTAMP:20260423T102518
CREATED:20220824T134550Z
LAST-MODIFIED:20220824T134550Z
UID:18106-1776938400-1776942000@obg.nu
SUMMARY:Dansen op de stoel
DESCRIPTION:Vrije inloop
URL:https://obg.nu/activiteit/dansen-op-de-stoel-2-2023-07-27-2023-12-21-2024-07-18/2026-04-23/
LOCATION:Nicolaaskapel
END:VEVENT
BEGIN:VEVENT
DTSTART;TZID=Europe/Amsterdam:20260423T100000
DTEND;TZID=Europe/Amsterdam:20260423T113000
DTSTAMP:20260423T102518
CREATED:20210519T092630Z
LAST-MODIFIED:20210519T092630Z
UID:18897-1776938400-1776943800@obg.nu
SUMMARY:Koersbal
DESCRIPTION:Informeer bij Mevrouw Walraven voor de mogelijkheden via 024-2060813
URL:https://obg.nu/activiteit/koersbal-2022-05-19-2022-10-20-2023-05-25-2023-12-28-2024-07-04-2024-11-21-2025-05-15/2026-04-23/
LOCATION:Atelier
END:VEVENT
BEGIN:VEVENT
DTSTART;TZID=Europe/Amsterdam:20260423T100000
DTEND;TZID=Europe/Amsterdam:20260423T120000
DTSTAMP:20260423T102518
CREATED:20240822T110757Z
LAST-MODIFIED:20260317T125312Z
UID:17859-1776938400-1776945600@obg.nu
SUMMARY:Vrijmarkt
DESCRIPTION:
URL:https://obg.nu/activiteit/obg-markt-2026-08-27-2026-04-02/
END:VEVENT
BEGIN:VEVENT
DTSTART;TZID=Europe/Amsterdam:20260423T100000
DTEND;TZID=Europe/Amsterdam:20260423T120000
DTSTAMP:20260423T102518
CREATED:20251223T122620Z
LAST-MODIFIED:20251223T122620Z
UID:18715-1776938400-1776945600@obg.nu
SUMMARY:Sjoelen
DESCRIPTION:
URL:https://obg.nu/activiteit/sjoelen-3/2026-04-23/
LOCATION:Brasserie OBG
END:VEVENT
BEGIN:VEVENT
DTSTART;TZID=Europe/Amsterdam:20260423T140000
DTEND;TZID=Europe/Amsterdam:20260423T170000
DTSTAMP:20260423T102518
CREATED:20240827T103613Z
LAST-MODIFIED:20240827T103613Z
UID:19077-1776952800-1776963600@obg.nu
SUMMARY:Schaken
DESCRIPTION:
URL:https://obg.nu/activiteit/schaken-2025-09-11-2026-02-26-2/2026-04-23/
LOCATION:Brasserie OBG
END:VEVENT
BEGIN:VEVENT
DTSTART;TZID=Europe/Amsterdam:20260423T161500
DTEND;TZID=Europe/Amsterdam:20260423T170000
DTSTAMP:20260423T102518
CREATED:20260223T090823Z
LAST-MODIFIED:20260225T115214Z
UID:19116-1776960900-1776963600@obg.nu
SUMMARY:Bibliotheek
DESCRIPTION:
URL:https://obg.nu/activiteit/bibliotheek-2-2026-02-26/2026-04-23/
LOCATION:Rode Bloesem
END:VEVENT
END:VCALENDAR