BEGIN:VCALENDAR
VERSION:2.0
PRODID:-//OBG - ECPv6.15.13//NONSGML v1.0//EN
CALSCALE:GREGORIAN
METHOD:PUBLISH
X-WR-CALNAME:OBG
X-ORIGINAL-URL:https://obg.nu
X-WR-CALDESC:Evenementen voor OBG
REFRESH-INTERVAL;VALUE=DURATION:PT1H
X-Robots-Tag:noindex
X-PUBLISHED-TTL:PT1H
BEGIN:VTIMEZONE
TZID:Europe/Amsterdam
BEGIN:DAYLIGHT
TZOFFSETFROM:+0100
TZOFFSETTO:+0200
TZNAME:CEST
DTSTART:20240331T010000
END:DAYLIGHT
BEGIN:STANDARD
TZOFFSETFROM:+0200
TZOFFSETTO:+0100
TZNAME:CET
DTSTART:20241027T010000
END:STANDARD
BEGIN:DAYLIGHT
TZOFFSETFROM:+0100
TZOFFSETTO:+0200
TZNAME:CEST
DTSTART:20250330T010000
END:DAYLIGHT
BEGIN:STANDARD
TZOFFSETFROM:+0200
TZOFFSETTO:+0100
TZNAME:CET
DTSTART:20251026T010000
END:STANDARD
BEGIN:DAYLIGHT
TZOFFSETFROM:+0100
TZOFFSETTO:+0200
TZNAME:CEST
DTSTART:20260329T010000
END:DAYLIGHT
BEGIN:STANDARD
TZOFFSETFROM:+0200
TZOFFSETTO:+0100
TZNAME:CET
DTSTART:20261025T010000
END:STANDARD
END:VTIMEZONE
BEGIN:VEVENT
DTSTART;TZID=Europe/Amsterdam:20251218T100000
DTEND;TZID=Europe/Amsterdam:20251218T120000
DTSTAMP:20260419T141958
CREATED:20240822T110757Z
LAST-MODIFIED:20240822T110757Z
UID:17844-1766052000-1766059200@obg.nu
SUMMARY:OBG markt
DESCRIPTION:
URL:https://obg.nu/activiteit/obg-markt-2026-08-27/2025-12-18/
END:VEVENT
BEGIN:VEVENT
DTSTART;TZID=Europe/Amsterdam:20251211T100000
DTEND;TZID=Europe/Amsterdam:20251211T120000
DTSTAMP:20260419T141958
CREATED:20240822T110757Z
LAST-MODIFIED:20240822T110757Z
UID:17843-1765447200-1765454400@obg.nu
SUMMARY:OBG markt
DESCRIPTION:
URL:https://obg.nu/activiteit/obg-markt-2026-08-27/2025-12-11/
END:VEVENT
BEGIN:VEVENT
DTSTART;TZID=Europe/Amsterdam:20251204T100000
DTEND;TZID=Europe/Amsterdam:20251204T120000
DTSTAMP:20260419T141958
CREATED:20240822T110757Z
LAST-MODIFIED:20240822T110757Z
UID:17842-1764842400-1764849600@obg.nu
SUMMARY:OBG markt
DESCRIPTION:
URL:https://obg.nu/activiteit/obg-markt-2026-08-27/2025-12-04/
END:VEVENT
BEGIN:VEVENT
DTSTART;TZID=Europe/Amsterdam:20251127T100000
DTEND;TZID=Europe/Amsterdam:20251127T120000
DTSTAMP:20260419T141958
CREATED:20240822T110757Z
LAST-MODIFIED:20240822T110757Z
UID:17841-1764237600-1764244800@obg.nu
SUMMARY:OBG markt
DESCRIPTION:
URL:https://obg.nu/activiteit/obg-markt-2026-08-27/2025-11-27/
END:VEVENT
BEGIN:VEVENT
DTSTART;TZID=Europe/Amsterdam:20251120T100000
DTEND;TZID=Europe/Amsterdam:20251120T120000
DTSTAMP:20260419T141958
CREATED:20240822T110757Z
LAST-MODIFIED:20240822T110757Z
UID:17840-1763632800-1763640000@obg.nu
SUMMARY:OBG markt
DESCRIPTION:
URL:https://obg.nu/activiteit/obg-markt-2026-08-27/2025-11-20/
END:VEVENT
BEGIN:VEVENT
DTSTART;TZID=Europe/Amsterdam:20251113T100000
DTEND;TZID=Europe/Amsterdam:20251113T120000
DTSTAMP:20260419T141958
CREATED:20240822T110757Z
LAST-MODIFIED:20240822T110757Z
UID:17839-1763028000-1763035200@obg.nu
SUMMARY:OBG markt
DESCRIPTION:
URL:https://obg.nu/activiteit/obg-markt-2026-08-27/2025-11-13/
END:VEVENT
BEGIN:VEVENT
DTSTART;TZID=Europe/Amsterdam:20251106T100000
DTEND;TZID=Europe/Amsterdam:20251106T120000
DTSTAMP:20260419T141958
CREATED:20240822T110757Z
LAST-MODIFIED:20240822T110757Z
UID:17838-1762423200-1762430400@obg.nu
SUMMARY:OBG markt
DESCRIPTION:
URL:https://obg.nu/activiteit/obg-markt-2026-08-27/2025-11-06/
END:VEVENT
BEGIN:VEVENT
DTSTART;TZID=Europe/Amsterdam:20251030T100000
DTEND;TZID=Europe/Amsterdam:20251030T120000
DTSTAMP:20260419T141958
CREATED:20240822T110757Z
LAST-MODIFIED:20240822T110757Z
UID:17837-1761818400-1761825600@obg.nu
SUMMARY:OBG markt
DESCRIPTION:
URL:https://obg.nu/activiteit/obg-markt-2026-08-27/2025-10-30/
END:VEVENT
BEGIN:VEVENT
DTSTART;TZID=Europe/Amsterdam:20251023T100000
DTEND;TZID=Europe/Amsterdam:20251023T120000
DTSTAMP:20260419T141958
CREATED:20240822T110757Z
LAST-MODIFIED:20240822T110757Z
UID:17836-1761213600-1761220800@obg.nu
SUMMARY:OBG markt
DESCRIPTION:
URL:https://obg.nu/activiteit/obg-markt-2026-08-27/2025-10-23/
END:VEVENT
END:VCALENDAR